BEGIN:VCALENDAR
VERSION:2.0
PRODID:-//wp-events-plugin.com//7.2.3.1//EN
BEGIN:VEVENT
UID:1@pedersenrecovery.com
DTSTART:20170930T120000Z
DTEND:20170930T150000Z
DTSTAMP:20170923T142246Z
URL:https://pedersenrecovery.com/events/event-1/
SUMMARY:Event 1
DESCRIPTION:dffasdfsdsdfdsfsdf\ndfasdfsdfasdfsdfsadfsdfdsfasdfdsfsdfsd\nsdf
 dfdfd\ndfasdfasdfasdf
LOCATION:multiplex\, 123 main st\, Pense\, Canada
X-APPLE-STRUCTURED-LOCATION;VALUE=URI;X-ADDRESS=123 main st\, Pense\, Canad
 a;X-APPLE-RADIUS=100;X-TITLE=multiplex:geo:0,0
END:VEVENT
END:VCALENDAR